BEGIN:VCALENDAR
VERSION:2.0
PRODID:-//wp-events-plugin.com//6.4.7.2//EN
TZID:Australia/Brisbane
X-WR-TIMEZONE:Australia/Brisbane
BEGIN:VEVENT
UID:2@qldfrogs.asn.au
DTSTART;TZID=Australia/Brisbane:20240420T093000
DTEND;TZID=Australia/Brisbane:20240420T110000
DTSTAMP:20240229T121524Z
URL:https://www.qldfrogs.asn.au/events-2/find-out-about-frogs/
SUMMARY:Find out about Frogs
DESCRIPTION:Hop in to Kumbartcho Sanctuary to learn all about Moreton Bay
 ’s frogs followed by a DIY workshop.\n\nThe Frog Society will give frogs
  the appreciation they deserve and answer all your burning amphibious ques
 tions. What is the difference between a frog and a toad and how do you ide
 ntify frog calls? How do you create a frog friendly garden? What are a gro
 up of frogs called?\n\nFollowing the informative presentation\, join the D
 IY workshop and create a mini-frog hotel. Bookings are essential so hop to
  it.
LOCATION:Kumbartcho Sanctuary\, 15 Bunya Pine Court\, Eaton's Hill\, QLD\, 
 Australia
X-APPLE-STRUCTURED-LOCATION;VALUE=URI;X-ADDRESS=15 Bunya Pine Court\, Eaton
 's Hill\, QLD\, Australia;X-APPLE-RADIUS=100;X-TITLE=Kumbartcho Sanctuary:
 geo:0,0
END:VEVENT
BEGIN:VTIMEZONE
TZID:Australia/Brisbane
X-LIC-LOCATION:Australia/Brisbane
BEGIN:STANDARD
DTSTART:20230421T093000
TZOFFSETFROM:+1000
TZOFFSETTO:+1000
TZNAME:AEST
END:STANDARD
END:VTIMEZONE
END:VCALENDAR