BEGIN:VCALENDAR
VERSION:2.0
PRODID:-//wp-events-plugin.com//6.4.7.2//EN
TZID:Australia/Brisbane
X-WR-TIMEZONE:Australia/Brisbane
BEGIN:VEVENT
UID:10@qldfrogs.asn.au
DTSTART;TZID=Australia/Brisbane:20250222T160000
DTEND;TZID=Australia/Brisbane:20250222T200000
DTSTAMP:20250207T040541Z
URL:https://www.qldfrogs.asn.au/events-2/frog-workshop/
SUMMARY:Frog Workshop
DESCRIPTION:Frog workshop and frogging afterwards - Mooloolah River Landcar
 e with Jono Hooper. More info and register HERE
END:VEVENT
BEGIN:VTIMEZONE
TZID:Australia/Brisbane
X-LIC-LOCATION:Australia/Brisbane
BEGIN:STANDARD
DTSTART:20240223T160000
TZOFFSETFROM:+1000
TZOFFSETTO:+1000
TZNAME:AEST
END:STANDARD
END:VTIMEZONE
END:VCALENDAR